BEGIN:VCALENDAR
VERSION:2.0
PRODID:-//Bellman Group - ECPv6.15.20//NONSGML v1.0//EN
CALSCALE:GREGORIAN
METHOD:PUBLISH
X-ORIGINAL-URL:https://bellmangroup.se
X-WR-CALDESC:Händelser för Bellman Group
REFRESH-INTERVAL;VALUE=DURATION:PT1H
X-Robots-Tag:noindex
X-PUBLISHED-TTL:PT1H
BEGIN:VTIMEZONE
TZID:Europe/Stockholm
BEGIN:DAYLIGHT
TZOFFSETFROM:+0100
TZOFFSETTO:+0200
TZNAME:CEST
DTSTART:20250330T010000
END:DAYLIGHT
BEGIN:STANDARD
TZOFFSETFROM:+0200
TZOFFSETTO:+0100
TZNAME:CET
DTSTART:20251026T010000
END:STANDARD
BEGIN:DAYLIGHT
TZOFFSETFROM:+0100
TZOFFSETTO:+0200
TZNAME:CEST
DTSTART:20260329T010000
END:DAYLIGHT
BEGIN:STANDARD
TZOFFSETFROM:+0200
TZOFFSETTO:+0100
TZNAME:CET
DTSTART:20261025T010000
END:STANDARD
BEGIN:DAYLIGHT
TZOFFSETFROM:+0100
TZOFFSETTO:+0200
TZNAME:CEST
DTSTART:20270328T010000
END:DAYLIGHT
BEGIN:STANDARD
TZOFFSETFROM:+0200
TZOFFSETTO:+0100
TZNAME:CET
DTSTART:20271031T010000
END:STANDARD
END:VTIMEZONE
BEGIN:VEVENT
DTSTART;VALUE=DATE:20260423
DTEND;VALUE=DATE:20260424
DTSTAMP:20260421T050029
CREATED:20251016T175120Z
LAST-MODIFIED:20251016T175120Z
UID:4589-1776902400-1776988799@bellmangroup.se
SUMMARY:Bolagsstämma
DESCRIPTION:
URL:https://bellmangroup.se/event/bolagsstamma/
CATEGORIES:Finansiell kalender
END:VEVENT
BEGIN:VEVENT
DTSTART;VALUE=DATE:20260521
DTEND;VALUE=DATE:20260522
DTSTAMP:20260421T050029
CREATED:20251016T175153Z
LAST-MODIFIED:20251016T175153Z
UID:4591-1779321600-1779407999@bellmangroup.se
SUMMARY:Delårsrapport Q1 - 2026
DESCRIPTION:
URL:https://bellmangroup.se/event/delarsrapport-q1-2026/
CATEGORIES:Finansiell kalender
END:VEVENT
BEGIN:VEVENT
DTSTART;VALUE=DATE:20260828
DTEND;VALUE=DATE:20260829
DTSTAMP:20260421T050029
CREATED:20251016T175229Z
LAST-MODIFIED:20251016T175229Z
UID:4593-1787875200-1787961599@bellmangroup.se
SUMMARY:Delårsrapport Q2 - 2026
DESCRIPTION:
URL:https://bellmangroup.se/event/delarsrapport-q2-2026/
CATEGORIES:Finansiell kalender
END:VEVENT
BEGIN:VEVENT
DTSTART;VALUE=DATE:20261119
DTEND;VALUE=DATE:20261120
DTSTAMP:20260421T050029
CREATED:20251016T175255Z
LAST-MODIFIED:20251016T175255Z
UID:4595-1795046400-1795132799@bellmangroup.se
SUMMARY:Delårsrapport Q3 - 2026
DESCRIPTION:
URL:https://bellmangroup.se/event/delarsrapport-q3-2026/
CATEGORIES:Finansiell kalender
END:VEVENT
END:VCALENDAR